BEGIN:VCALENDAR
VERSION:2.0
PRODID:-//Center of Alcohol &amp; Substance Use Studies - ECPv6.7.0//NONSGML v1.0//EN
CALSCALE:GREGORIAN
METHOD:PUBLISH
X-WR-CALNAME:Center of Alcohol &amp; Substance Use Studies
X-ORIGINAL-URL:https://alcoholstudies.rutgers.edu
X-WR-CALDESC:Events for Center of Alcohol &amp; Substance Use Studies
REFRESH-INTERVAL;VALUE=DURATION:PT1H
X-Robots-Tag:noindex
X-PUBLISHED-TTL:PT1H
BEGIN:VTIMEZONE
TZID:UTC
BEGIN:STANDARD
TZOFFSETFROM:+0000
TZOFFSETTO:+0000
TZNAME:UTC
DTSTART:20190101T000000
END:STANDARD
END:VTIMEZONE
BEGIN:VEVENT
DTSTART;TZID=UTC:20190418T000000
DTEND;TZID=UTC:20190418T000000
DTSTAMP:20260420T171741
CREATED:20190214T182207Z
LAST-MODIFIED:20190517T222200Z
UID:777-1555545600-1555545600@alcoholstudies.rutgers.edu
SUMMARY:Lia Nower\, Ph.D.\, JD
DESCRIPTION:Dr. Lea Nower (Ph.D.\, JD) will be presenting on Gambling Disorders and its place on the mental health spectrum.
URL:https://alcoholstudies.rutgers.edu/event/lia-nower/
ATTACH;FMTTYPE=image/jpeg:https://alcoholstudies.rutgers.edu/wp-content/uploads/Nower-EAS-Talk.jpg
ORGANIZER;CN="Sara Kass":MAILTO:sara.kass@rutgers.edu
END:VEVENT
BEGIN:VEVENT
DTSTART;TZID=UTC:20190411T120000
DTEND;TZID=UTC:20190411T133000
DTSTAMP:20260420T171741
CREATED:20190214T182128Z
LAST-MODIFIED:20190517T222917Z
UID:775-1554984000-1554989400@alcoholstudies.rutgers.edu
SUMMARY:Anne Wagner\, Ph.D.
DESCRIPTION:Anne Wagner will be presenting on her groundbreaking studies using MDMA as an adjunct to PTSD couples’ therapy.
URL:https://alcoholstudies.rutgers.edu/event/visiting-guest-speaker/
LOCATION:Room 200\, 607 Allison Road\, Piscataway\, NJ\, 08854\, United States
ATTACH;FMTTYPE=image/jpeg:https://alcoholstudies.rutgers.edu/wp-content/uploads/Wagner-EAS-Talk-Final-1.jpg
ORGANIZER;CN="Sara Kass":MAILTO:sara.kass@rutgers.edu
END:VEVENT
BEGIN:VEVENT
DTSTART;TZID=UTC:20190329T000000
DTEND;TZID=UTC:20190329T000000
DTSTAMP:20260420T171741
CREATED:20190214T181845Z
LAST-MODIFIED:20190215T181215Z
UID:767-1553817600-1553817600@alcoholstudies.rutgers.edu
SUMMARY:CAS CONFERENCE
DESCRIPTION:At the Crossroads of Complex Trauma: Domestic Violence and Addiction
URL:https://alcoholstudies.rutgers.edu/event/cas-conference/
ATTACH;FMTTYPE=image/jpeg:https://alcoholstudies.rutgers.edu/wp-content/uploads/rutgers-event.jpg
ORGANIZER;CN="Sara Kass":MAILTO:sara.kass@rutgers.edu
END:VEVENT
BEGIN:VEVENT
DTSTART;TZID=UTC:20190321T000000
DTEND;TZID=UTC:20190321T000000
DTSTAMP:20260420T171741
CREATED:20190214T182013Z
LAST-MODIFIED:20190215T181626Z
UID:771-1553126400-1553126400@alcoholstudies.rutgers.edu
SUMMARY:NO MEETING
DESCRIPTION:SPRING BREAK
URL:https://alcoholstudies.rutgers.edu/event/no-meeting/
ATTACH;FMTTYPE=image/jpeg:https://alcoholstudies.rutgers.edu/wp-content/uploads/rutgers-event.jpg
ORGANIZER;CN="Sara Kass":MAILTO:sara.kass@rutgers.edu
END:VEVENT
BEGIN:VEVENT
DTSTART;TZID=UTC:20190314T120000
DTEND;TZID=UTC:20190314T133000
DTSTAMP:20260420T171741
CREATED:20190214T181718Z
LAST-MODIFIED:20190517T224233Z
UID:765-1552564800-1552570200@alcoholstudies.rutgers.edu
SUMMARY:Anthony Pawlak\, Ph.D.
DESCRIPTION:Anthony (Tony) Pawlak will be presenting on linear modeling in statistics for the psychological sciences.
URL:https://alcoholstudies.rutgers.edu/event/anthony-pawlak/
LOCATION:Room 219\, Smithers Hall\, 607 Allison Road\, Piscataway\, NJ\, 08854\, United States
ATTACH;FMTTYPE=image/jpeg:https://alcoholstudies.rutgers.edu/wp-content/uploads/Pawlak-Flyer.jpg
ORGANIZER;CN="Sara Kass":MAILTO:sara.kass@rutgers.edu
END:VEVENT
BEGIN:VEVENT
DTSTART;TZID=UTC:20190307T120000
DTEND;TZID=UTC:20190307T133000
DTSTAMP:20260420T171741
CREATED:20190214T181639Z
LAST-MODIFIED:20190517T224207Z
UID:763-1551960000-1551965400@alcoholstudies.rutgers.edu
SUMMARY:Aimee Campbell\, Ph.D.
DESCRIPTION:Dr. Aimee Campbell will be presenting on her work on the implementation piece of research in substance use studies.
URL:https://alcoholstudies.rutgers.edu/event/aimee-campbell/
LOCATION:Life Sciences Auditorium\, 604 Allison Road\, Piscataway\, NJ\, 08854\, United States
ATTACH;FMTTYPE=image/jpeg:https://alcoholstudies.rutgers.edu/wp-content/uploads/Campbell-Bio-Final-Final-.jpg
ORGANIZER;CN="Sara Kass":MAILTO:sara.kass@rutgers.edu
END:VEVENT
BEGIN:VEVENT
DTSTART;TZID=UTC:20190228T120000
DTEND;TZID=UTC:20190228T133000
DTSTAMP:20260420T171741
CREATED:20190214T181456Z
LAST-MODIFIED:20190517T224647Z
UID:761-1551355200-1551360600@alcoholstudies.rutgers.edu
SUMMARY:Skye Fitzpatrick\, Ph.D.
DESCRIPTION:Dr. Skye Fitzpatrick\, one of the post-doctoral fellows at the center\, will be presenting on one of her areas of expertise\, Borderline Personality Disorder\, and the crossover to addiction studies. 
URL:https://alcoholstudies.rutgers.edu/event/skye-fitzpatrick/
LOCATION:Room 219\, Smithers Hall\, 607 Allison Road\, Piscataway\, NJ\, 08854\, United States
ATTACH;FMTTYPE=image/jpeg:https://alcoholstudies.rutgers.edu/wp-content/uploads/Fitzpatrick-EAS-Talk.jpg
ORGANIZER;CN="Sara Kass":MAILTO:sara.kass@rutgers.edu
END:VEVENT
BEGIN:VEVENT
DTSTART;TZID=UTC:20190221T120000
DTEND;TZID=UTC:20190221T133000
DTSTAMP:20260420T171741
CREATED:20190214T181315Z
LAST-MODIFIED:20190517T224630Z
UID:759-1550750400-1550755800@alcoholstudies.rutgers.edu
SUMMARY:Brandon Alderman\, Ph.D.
DESCRIPTION:Dr. Brandon Alderman will be presenting on one of the overarching themes of his research: the link between exercise and depression.
URL:https://alcoholstudies.rutgers.edu/event/brandon-alderman/
LOCATION:Room 219\, Smithers Hall\, 607 Allison Road\, Piscataway\, NJ\, 08854\, United States
ATTACH;FMTTYPE=image/jpeg:https://alcoholstudies.rutgers.edu/wp-content/uploads/Alderman-EAS-Talk-.jpg
ORGANIZER;CN="Sara Kass":MAILTO:sara.kass@rutgers.edu
END:VEVENT
END:VCALENDAR