BEGIN:VCALENDAR
VERSION:2.0
PRODID:-//Center of Alcohol &amp; Substance Use Studies - ECPv6.7.0//NONSGML v1.0//EN
CALSCALE:GREGORIAN
METHOD:PUBLISH
X-ORIGINAL-URL:https://alcoholstudies.rutgers.edu
X-WR-CALDESC:Events for Center of Alcohol &amp; Substance Use Studies
REFRESH-INTERVAL;VALUE=DURATION:PT1H
X-Robots-Tag:noindex
X-PUBLISHED-TTL:PT1H
BEGIN:VTIMEZONE
TZID:UTC
BEGIN:STANDARD
TZOFFSETFROM:+0000
TZOFFSETTO:+0000
TZNAME:UTC
DTSTART:20190101T000000
END:STANDARD
END:VTIMEZONE
BEGIN:VEVENT
DTSTART;TZID=UTC:20191107T110000
DTEND;TZID=UTC:20191107T123000
DTSTAMP:20260423T104905
CREATED:20191023T193549Z
LAST-MODIFIED:20191023T193716Z
UID:3855-1573124400-1573129800@alcoholstudies.rutgers.edu
SUMMARY:Dr. Chuck Huber
DESCRIPTION:Don’t miss out on this chance to hear Dr. Chuck Huber teach us all about multilevel/longitudinal modeling.
URL:https://alcoholstudies.rutgers.edu/event/dr-chuck-huber/
LOCATION:Life Sciences Auditorium\, 604 Allison Road\, Piscataway\, NJ\, 08854\, United States
ATTACH;FMTTYPE=application/pdf:https://alcoholstudies.rutgers.edu/wp-content/uploads/Huber-EAS-Talk.pdf
END:VEVENT
BEGIN:VEVENT
DTSTART;TZID=UTC:20191114T120000
DTEND;TZID=UTC:20191114T130000
DTSTAMP:20260423T104905
CREATED:20191112T193743Z
LAST-MODIFIED:20191112T203536Z
UID:3942-1573732800-1573736400@alcoholstudies.rutgers.edu
SUMMARY:Dr. Paul Copeland
DESCRIPTION:Come out and learn how to write a specific aims page with Dr. Paul Copeland.
URL:https://alcoholstudies.rutgers.edu/event/dr-paul-copeland/
LOCATION:Room 219\, Smithers Hall\, 607 Allison Road\, Piscataway\, NJ\, 08854\, United States
ATTACH;FMTTYPE=application/pdf:https://alcoholstudies.rutgers.edu/wp-content/uploads/Writing-A-Specific-Aims-2.pdf
END:VEVENT
END:VCALENDAR