BEGIN:VCALENDAR
VERSION:2.0
PRODID:-//Center of Alcohol &amp; Substance Use Studies - ECPv6.7.0//NONSGML v1.0//EN
CALSCALE:GREGORIAN
METHOD:PUBLISH
X-ORIGINAL-URL:https://alcoholstudies.rutgers.edu
X-WR-CALDESC:Events for Center of Alcohol &amp; Substance Use Studies
REFRESH-INTERVAL;VALUE=DURATION:PT1H
X-Robots-Tag:noindex
X-PUBLISHED-TTL:PT1H
BEGIN:VTIMEZONE
TZID:UTC
BEGIN:STANDARD
TZOFFSETFROM:+0000
TZOFFSETTO:+0000
TZNAME:UTC
DTSTART:20190101T000000
END:STANDARD
END:VTIMEZONE
BEGIN:VEVENT
DTSTART;TZID=UTC:20190502T120000
DTEND;TZID=UTC:20190502T133000
DTSTAMP:20260422T064137
CREATED:20190214T182314Z
LAST-MODIFIED:20190517T223641Z
UID:781-1556798400-1556803800@alcoholstudies.rutgers.edu
SUMMARY:Graduate Student Presentations
DESCRIPTION:Graduate Students Laura Lesnewich and Sarah Grace Helton will be presenting on their current research. \n 
URL:https://alcoholstudies.rutgers.edu/event/student-presentations/
LOCATION:Room 219\, Smithers Hall\, 607 Allison Road\, Piscataway\, NJ\, 08854\, United States
ATTACH;FMTTYPE=image/png:https://alcoholstudies.rutgers.edu/wp-content/uploads/Doc-Students-EAS-Final-FInal.png
END:VEVENT
BEGIN:VEVENT
DTSTART;TZID=UTC:20190523T090000
DTEND;TZID=UTC:20190523T160000
DTSTAMP:20260422T064137
CREATED:20190528T194956Z
LAST-MODIFIED:20190528T194956Z
UID:1383-1558602000-1558627200@alcoholstudies.rutgers.edu
SUMMARY:Connecting with Spirituality in Addiction Treatment (PDS1502)
DESCRIPTION:Spirituality can impact mental health and functioning in positive and negative ways though there can be discomfort by clinicians to bring it up in treatment.  This seminar will explore ways clinicians can assess and incorporate spirituality into treatment\, the importance of including spirituality\, and the challenges in this area.\nInstructor: Nathalie Edmond\, PsyD
URL:https://alcoholstudies.rutgers.edu/event/connecting-with-spirituality-in-addiction-treatment-pds1502/
LOCATION:Room 219\, Smithers Hall\, 607 Allison Road\, Piscataway\, NJ\, 08854\, United States
END:VEVENT
BEGIN:VEVENT
DTSTART;TZID=UTC:20190530T090000
DTEND;TZID=UTC:20190530T160000
DTSTAMP:20260422T064137
CREATED:20190528T195225Z
LAST-MODIFIED:20190528T195225Z
UID:1385-1559206800-1559232000@alcoholstudies.rutgers.edu
SUMMARY:From the Bottom Up (PDS19302)
DESCRIPTION:Instructor: Debra Ruisard\, DSW\, LCSW\nProviders of substance abuse treatment recognize that most clients have trauma histories that complicate treatment and compromise recovery. Kaiser Permanente’s Adverse Childhood Experiences study has clearly established the link between traumatic childhood experiences and the risk of developing addictions. The reality is that we can no longer just treat the substance use disorder; the underlying trauma must also be addressed. Leading trauma experts have demonstrated that unresolved trauma is often stored in the body and interventions designed to primarily target cognitions are ineffective for individuals with complex trauma histories. Treatment programs are now seeking to adopt interventions that also treat the emotional and physical manifestations of trauma to improve recovery outcomes for their clients. This workshop will present a trauma-informed model of addiction treatment that combines sound addiction treatment protocols\, poly vagal theory\, emotional regulation skills training and body-based interventions. It will offer experiential exercises for participants to practice emotional regulation and body based interventions they can use in group and individual treatment.
URL:https://alcoholstudies.rutgers.edu/event/from-the-bottom-up-pds19302/
END:VEVENT
BEGIN:VEVENT
DTSTART;TZID=UTC:20190530T113000
DTEND;TZID=UTC:20190530T130000
DTSTAMP:20260422T064137
CREATED:20190517T194250Z
LAST-MODIFIED:20190517T222230Z
UID:1230-1559215800-1559221200@alcoholstudies.rutgers.edu
SUMMARY:Yihong Zhao\, Ph.D.
DESCRIPTION:Dr. Yihong Zhao will be presenting on “Discovery Science in Addiction Research”: her experience as a biostatistician in the field of substance use studies. 
URL:https://alcoholstudies.rutgers.edu/event/discovery-science-in-addiction-research-yihong-zhao-ph-d/
LOCATION:Life Sciences Auditorium\, 604 Allison Road\, Piscataway\, NJ\, 08854\, United States
ATTACH;FMTTYPE=image/jpeg:https://alcoholstudies.rutgers.edu/wp-content/uploads/Yihong-Flyer-Final.jpg
END:VEVENT
END:VCALENDAR