BEGIN:VCALENDAR
VERSION:2.0
PRODID:-//Center of Alcohol &amp; Substance Use Studies - ECPv6.7.0//NONSGML v1.0//EN
CALSCALE:GREGORIAN
METHOD:PUBLISH
X-ORIGINAL-URL:https://alcoholstudies.rutgers.edu
X-WR-CALDESC:Events for Center of Alcohol &amp; Substance Use Studies
REFRESH-INTERVAL;VALUE=DURATION:PT1H
X-Robots-Tag:noindex
X-PUBLISHED-TTL:PT1H
BEGIN:VTIMEZONE
TZID:America/New_York
BEGIN:DAYLIGHT
TZOFFSETFROM:-0500
TZOFFSETTO:-0400
TZNAME:EDT
DTSTART:20250309T070000
END:DAYLIGHT
BEGIN:STANDARD
TZOFFSETFROM:-0400
TZOFFSETTO:-0500
TZNAME:EST
DTSTART:20251102T060000
END:STANDARD
END:VTIMEZONE
BEGIN:VEVENT
DTSTART;TZID=America/New_York:20251022T123000
DTEND;TZID=America/New_York:20251022T133000
DTSTAMP:20260417T174749
CREATED:20250516T150910Z
LAST-MODIFIED:20250613T154352Z
UID:10652-1761136200-1761139800@alcoholstudies.rutgers.edu
SUMMARY:CAS Colloquium Lecture\, Dr. Shannon Kehle-Forbes: Centering Patients' Voices in the Study of Co-Occurring Post-Traumatic Stress and Substance Use Disorders
DESCRIPTION:Shannon Kehle-Forbes\, PhD is a Professor of Medicine at the University of Minnesota and a Research Psychologist in the Women’s Health Sciences Division of the National Center for PTSD. She is also a Research Scientist and Deputy Director at the Center for Care Delivery & Outcomes Research\, a VA Health Systems Research Center of Innovation at the Minneapolis VA. Dr. Kehle-Forbes’s research program is focused on improving the clinical effectiveness and implementation of evidence-based psychotherapies PTSD\, particularly for those with co-occurring conditions. Her research in this area has been continuously funded since 2010 by the Patient-Centered Research Outcomes Institute\, Department of Defense\, and Department of Veterans Affairs.
URL:https://alcoholstudies.rutgers.edu/event/cas-colloquium-lecture-dr-shannon-kehle-forbes-implementation-dissemination-science-pcori-using-mixed-methods/
END:VEVENT
END:VCALENDAR