BEGIN:VCALENDAR
VERSION:2.0
PRODID:-//Center of Alcohol &amp; Substance Use Studies - ECPv6.7.0//NONSGML v1.0//EN
CALSCALE:GREGORIAN
METHOD:PUBLISH
X-ORIGINAL-URL:https://alcoholstudies.rutgers.edu
X-WR-CALDESC:Events for Center of Alcohol &amp; Substance Use Studies
REFRESH-INTERVAL;VALUE=DURATION:PT1H
X-Robots-Tag:noindex
X-PUBLISHED-TTL:PT1H
BEGIN:VTIMEZONE
TZID:UTC
BEGIN:STANDARD
TZOFFSETFROM:+0000
TZOFFSETTO:+0000
TZNAME:UTC
DTSTART:20190101T000000
END:STANDARD
END:VTIMEZONE
BEGIN:VEVENT
DTSTART;TZID=UTC:20191206T080000
DTEND;TZID=UTC:20191206T163000
DTSTAMP:20260423T005828
CREATED:20191211T002406Z
LAST-MODIFIED:20191211T002406Z
UID:4085-1575619200-1575649800@alcoholstudies.rutgers.edu
SUMMARY:The Center for Great Expectations’s 3rd Annual Trauma at the Core Conference
DESCRIPTION:We’re co-sponsoring CGE’s 3rd Annual Trauma at the Core Conference! \nJoin us to earn CE’s\, hear from keynotes Andrew Tatarsky\, PhD and Jeff Segal\, PsyD\, and to attend a panel of Rutgers Center of Alcohol & Substance Use Faculty and Affiliates\, including Lorraine Howard\,  LCSW\, LCADC\, Natalie Moore-Bembry\, Ed.D.\, MSW\, LSW\, and Marc Louie\, Ed.D.\, LPC\, with discussant Denise Hein\, PhD\, ABPP.
URL:https://alcoholstudies.rutgers.edu/event/the-center-for-great-expectationss-3rd-annual-trauma-at-the-core-conference/
LOCATION:The College of New Jersey/Brower Student Center\, 2000 Pennington Rd\, Ewing\, NJ\, 08628\, United States
ATTACH;FMTTYPE=image/png:https://alcoholstudies.rutgers.edu/wp-content/uploads/logo-CGE-1.png
END:VEVENT
END:VCALENDAR