BEGIN:VCALENDAR
VERSION:2.0
PRODID:-//Center of Alcohol &amp; Substance Use Studies - ECPv6.7.0//NONSGML v1.0//EN
CALSCALE:GREGORIAN
METHOD:PUBLISH
X-ORIGINAL-URL:https://alcoholstudies.rutgers.edu
X-WR-CALDESC:Events for Center of Alcohol &amp; Substance Use Studies
REFRESH-INTERVAL;VALUE=DURATION:PT1H
X-Robots-Tag:noindex
X-PUBLISHED-TTL:PT1H
BEGIN:VTIMEZONE
TZID:UTC
BEGIN:STANDARD
TZOFFSETFROM:+0000
TZOFFSETTO:+0000
TZNAME:UTC
DTSTART:20190101T000000
END:STANDARD
END:VTIMEZONE
BEGIN:VEVENT
DTSTART;TZID=UTC:20191003T120000
DTEND;TZID=UTC:20191003T130000
DTSTAMP:20260422T234932
CREATED:20191113T212106Z
LAST-MODIFIED:20191113T212106Z
UID:3976-1570104000-1570107600@alcoholstudies.rutgers.edu
SUMMARY:Postdoc Writing Club (Postdoctoral Fellows Only)
DESCRIPTION:
URL:https://alcoholstudies.rutgers.edu/event/postdoc-writing-club-postdoctoral-fellows-only/
LOCATION:Room 219\, Smithers Hall\, 607 Allison Road\, Piscataway\, NJ\, 08854\, United States
END:VEVENT
END:VCALENDAR