BEGIN:VCALENDAR
VERSION:2.0
PRODID:-//Center of Alcohol &amp; Substance Use Studies - ECPv6.7.0//NONSGML v1.0//EN
CALSCALE:GREGORIAN
METHOD:PUBLISH
X-ORIGINAL-URL:https://alcoholstudies.rutgers.edu
X-WR-CALDESC:Events for Center of Alcohol &amp; Substance Use Studies
REFRESH-INTERVAL;VALUE=DURATION:PT1H
X-Robots-Tag:noindex
X-PUBLISHED-TTL:PT1H
BEGIN:VTIMEZONE
TZID:UTC
BEGIN:STANDARD
TZOFFSETFROM:+0000
TZOFFSETTO:+0000
TZNAME:UTC
DTSTART:20190101T000000
END:STANDARD
END:VTIMEZONE
BEGIN:VEVENT
DTSTART;TZID=UTC:20190624T080000
DTEND;TZID=UTC:20190627T170000
DTSTAMP:20260421T084719
CREATED:20190620T221437Z
LAST-MODIFIED:20190620T222755Z
UID:1885-1561363200-1561654800@alcoholstudies.rutgers.edu
SUMMARY:Summer School of Addiction Studies
DESCRIPTION:SSAS is an accelerated 3-day program that provides participants the opportunity to obtain up to 25 Continuing Education Hours through a personalized schedule of courses\, lectures\, and workshops that cover a full range of diverse topics in the field of addiction prevention\, treatment\, and recovery. Among it’s many historical claims of fame\, SSAS is the oldest addiction education program in the United States\, and Bill W.\, the co-founder of Alcoholics Anonymous\, was an instructor at our Summer School in the 1940s!
URL:https://alcoholstudies.rutgers.edu/event/summer-school/
ATTACH;FMTTYPE=image/jpeg:https://alcoholstudies.rutgers.edu/wp-content/uploads/header-.jpg
END:VEVENT
END:VCALENDAR